BEGIN:VCALENDAR
VERSION:2.0
PRODID:-//КДАіС
CALSCALE:GREGORIAN
METHOD:PUBLISH
X-WR-CALNAME:КДАіС
X-ORIGINAL-URL:https://kdais.kiev.ua/event/2023-07-01-ua/
X-WR-CALDESC:Проповідь архієпископа Білогородського Сильвестра у Неділю 4-ту після П’ятидесятниці
BEGIN:VEVENT
DTSTART:20230702T233000
DTEND:20230702T233000
SUMMARY:Проповідь архієпископа Білогородського Сильвестра у Неділю 4-ту після П’ятидесятниці
DESCRIPTION:Проповідь ректора КДАіС архієпископа Білогородського Сильвестра у Неділю 4-ту після П’ятидесятниці.
LOCATION:
END:VEVENT
END:VCALENDAR
