BEGIN:VCALENDAR
VERSION:2.0
PRODID:-//КДАіС
CALSCALE:GREGORIAN
METHOD:PUBLISH
X-WR-CALNAME:КДАіС
X-ORIGINAL-URL:https://kdais.kiev.ua/event/02082023-vystavka/
X-WR-CALDESC:В КДА відкрилась виставка: «Українська Православна Церква у всеукраїнській боротьбі з російською агресією»
BEGIN:VEVENT
DTSTART:20230802T233000
DTEND:20230802T233000
SUMMARY:В КДА відкрилась виставка: «Українська Православна Церква у всеукраїнській боротьбі з російською агресією»
DESCRIPTION:На виставці представлені різноманітні фотографії, що змальовують життя Української Православної Церкви під час найтяжчих періодів війни. Відвідувачі мають змогу ознайомитись із стендами, де детально розповідається про важливу роль волонтерської підтримки Церкви Збройним Силам України та мирним жителям на окупованих та деокупованих територіях.
LOCATION:
END:VEVENT
END:VCALENDAR
