BEGIN:VCALENDAR
VERSION:2.0
PRODID:-//КДАіС
CALSCALE:GREGORIAN
METHOD:PUBLISH
X-WR-CALNAME:КДАіС
X-ORIGINAL-URL:https://kdais.kiev.ua/event/vchena-rada-03082023/
X-WR-CALDESC:На засіданні Вченої ради КДА підведені підсумки вступної кампанії 2023 року
BEGIN:VEVENT
DTSTART:20230803T233000
DTEND:20230803T233000
SUMMARY:На засіданні Вченої ради КДА підведені підсумки вступної кампанії 2023 року
DESCRIPTION:За результатами вступних іспитів до Київських духовних шкіл на денне і заочне відділення зараховані 107 абітурієнтів.
LOCATION:
END:VEVENT
END:VCALENDAR
