BEGIN:VCALENDAR
VERSION:2.0
PRODID:-//КДАіС
CALSCALE:GREGORIAN
METHOD:PUBLISH
X-WR-CALNAME:КДАіС
X-ORIGINAL-URL:https://kdais.kiev.ua/event/audioknyha-04082023/
X-WR-CALDESC:Київська духовна академія випустила Псалтир українською мовою у форматі аудіокниги
BEGIN:VEVENT
DTSTART:20230804T233000
DTEND:20230804T233000
SUMMARY:Київська духовна академія випустила Псалтир українською мовою у форматі аудіокниги
DESCRIPTION:Поява Книги Псалтир українською мовою в аудіоформаті стала важливим проєктом, що дозволяє зблизити людей зі Святим Письмом та дає можливість зрозуміти цінність псалмів у богослужінні, а також їх відповідність викликам сучасного життя.
LOCATION:
END:VEVENT
END:VCALENDAR
