BEGIN:VCALENDAR
VERSION:2.0
PRODID:-//КДАіС
CALSCALE:GREGORIAN
METHOD:PUBLISH
X-WR-CALNAME:КДАіС
X-ORIGINAL-URL:https://kdais.kiev.ua/event/06082023-2/
X-WR-CALDESC:Богослужіння Неділі дев&#8217;ятої після П&#8217;ятидесятниці, день пам&#8217;яті святих Бориса і Гліба (+ВІДЕО)
BEGIN:VEVENT
DTSTART:20230806T233000
DTEND:20230806T233000
SUMMARY:Богослужіння Неділі дев&#8217;ятої після П&#8217;ятидесятниці, день пам&#8217;яті святих Бориса і Гліба (+ВІДЕО)
DESCRIPTION:В Академічному храмі на честь Різдва Божої Матері була звершена Божественна літургія, яку очолив духівник архімандрит Маркел (Павук) у співслужінні членів адміністрації, викладачів та студентів Київських духовних шкіл, а також гостей у священному сані.
LOCATION:
END:VEVENT
END:VCALENDAR
