BEGIN:VCALENDAR
VERSION:2.0
PRODID:-//КДАіС
CALSCALE:GREGORIAN
METHOD:PUBLISH
X-WR-CALNAME:КДАіС
X-ORIGINAL-URL:https://kdais.kiev.ua/event/17082023-2/
X-WR-CALDESC:Київські духовні школи взяли участь в урочистому богослужінні з нагоди дня інтронізації Предстоятеля УПЦ
BEGIN:VEVENT
DTSTART:20230817T233000
DTEND:20230817T233000
SUMMARY:Київські духовні школи взяли участь в урочистому богослужінні з нагоди дня інтронізації Предстоятеля УПЦ
DESCRIPTION:Після відпусту Літургії Блаженнішому Митрополиту Онуфрію виголосили многоліття. Керуючий справами УПЦ зачитав привітання Його Блаженству від Предстоятелів Антіохійської та Польської Православних Церков. Представники Православної Церкви в Америці виголосили вітальне слово Блаженнішого Архієпископа Вашингтонського і Митрополита всієї Америки і Канади Тихона та передали подарунок Предстоятелю – ікону преподобного Германа Аляскинського.
LOCATION:
END:VEVENT
END:VCALENDAR
