BEGIN:VCALENDAR
VERSION:2.0
PRODID:-//КДАіС
CALSCALE:GREGORIAN
METHOD:PUBLISH
X-WR-CALNAME:КДАіС
X-ORIGINAL-URL:https://kdais.kiev.ua/event/19082023-preobrazhennya/
X-WR-CALDESC:В Академії молитовно відзначили свято Преображення Господнього
BEGIN:VEVENT
DTSTART:20230819T233000
DTEND:20230819T233000
SUMMARY:В Академії молитовно відзначили свято Преображення Господнього
DESCRIPTION:Після читання Святого Євангелія проповідь виголосив вчений секретар архімандрит Митрофан (Божко), а на запричасному вірші - вихованець 2-го класу Камінський Денис.
LOCATION:
END:VEVENT
END:VCALENDAR
