BEGIN:VCALENDAR
VERSION:2.0
PRODID:-//КДАіС
CALSCALE:GREGORIAN
METHOD:PUBLISH
X-WR-CALNAME:КДАіС
X-ORIGINAL-URL:https://kdais.kiev.ua/event/020923/
X-WR-CALDESC:Всенічне бдіння напередодні 13-ої Неділі після П’ятидесятниці
BEGIN:VEVENT
DTSTART:20230902T233000
DTEND:20230902T233000
SUMMARY:Всенічне бдіння напередодні 13-ої Неділі після П’ятидесятниці
DESCRIPTION:Ректор, викладачі та студенти КДАіС молилися за Всенічним бдінням в храмі на честь прп. Агапіта Печерського та Академічному храмі Різдва Пресвятої Богородиці.
LOCATION:
END:VEVENT
END:VCALENDAR
