BEGIN:VCALENDAR
VERSION:2.0
PRODID:-//КДАіС
CALSCALE:GREGORIAN
METHOD:PUBLISH
X-WR-CALNAME:КДАіС
X-ORIGINAL-URL:https://kdais.kiev.ua/event/030923-vitannyia/
X-WR-CALDESC:Вітаємо проректора з навчально-методичної роботи архімандрита Філарета (Волошина) з Днем народження!
BEGIN:VEVENT
DTSTART:20230903T233000
DTEND:20230903T233000
SUMMARY:Вітаємо проректора з навчально-методичної роботи архімандрита Філарета (Волошина) з Днем народження!
DESCRIPTION:Ваше Високопреподобіє, дорогий отче! У цей особливий для Вас день корпорація Київських духовних шкіл вітає Вас з Днем Вашого народження!
LOCATION:
END:VEVENT
END:VCALENDAR
