BEGIN:VCALENDAR
VERSION:2.0
PRODID:-//КДАіС
CALSCALE:GREGORIAN
METHOD:PUBLISH
X-WR-CALNAME:КДАіС
X-ORIGINAL-URL:https://kdais.kiev.ua/event/rektorkdais-03092023/
X-WR-CALDESC:Служіння ректора Київської духовної академії у Неділю 13-ту після П’ятидесятниці
BEGIN:VEVENT
DTSTART:20230903T233000
DTEND:20230903T233000
SUMMARY:Служіння ректора Київської духовної академії у Неділю 13-ту після П’ятидесятниці
DESCRIPTION:Ректор Київської духовної академії і семінарії архієпископ Білогородський Сильвестр звершив Божественну літургію в храмі на честь великомученика Георгія Побідоносця в Солом’янському районі м. Києва, почесним настоятелем якого він є.
LOCATION:
END:VEVENT
END:VCALENDAR
