BEGIN:VCALENDAR
VERSION:2.0
PRODID:-//КДАіС
CALSCALE:GREGORIAN
METHOD:PUBLISH
X-WR-CALNAME:КДАіС
X-ORIGINAL-URL:https://kdais.kiev.ua/event/09092023-kpl/
X-WR-CALDESC:Архієпископ Сильвестр співслужив Блаженнішому Митрополиту Онуфрію за Всенічним бдінням у Києво-Печерській Лаврі
BEGIN:VEVENT
DTSTART:20230909T233000
DTEND:20230909T233000
SUMMARY:Архієпископ Сильвестр співслужив Блаженнішому Митрополиту Онуфрію за Всенічним бдінням у Києво-Печерській Лаврі
DESCRIPTION:Всенічне бдіння у храмі на честь преподобного Агапіта Печерського Свято-Успенської Києво-Печерської Лаври очолив Предстоятель Української Православної Церкви Блаженніший Митрополит Київський і всієї України Онуфрій.
LOCATION:
END:VEVENT
END:VCALENDAR
