BEGIN:VCALENDAR
VERSION:2.0
PRODID:-//КДАіС
CALSCALE:GREGORIAN
METHOD:PUBLISH
X-WR-CALNAME:КДАіС
X-ORIGINAL-URL:https://kdais.kiev.ua/event/14092023/
X-WR-CALDESC:У день пам&#8217;яті преподобного Симеона Стовпника архієпископ Сильвестр співслужив Предстоятелю УПЦ
BEGIN:VEVENT
DTSTART:20230914T233000
DTEND:20230914T233000
SUMMARY:У день пам&#8217;яті преподобного Симеона Стовпника архієпископ Сильвестр співслужив Предстоятелю УПЦ
DESCRIPTION:Наприкінці Літургії перед іконою преподобного Симеона Стовпника був звершений чин славління. Після чого Блаженніший владика привітав паству зі святом та відзначив благодійників храму церковними нагородами.
LOCATION:
END:VEVENT
END:VCALENDAR
