BEGIN:VCALENDAR
VERSION:2.0
PRODID:-//КДАіС
CALSCALE:GREGORIAN
METHOD:PUBLISH
X-WR-CALNAME:КДАіС
X-ORIGINAL-URL:https://kdais.kiev.ua/event/vykhovnarada-15-09-2023/
X-WR-CALDESC:В КДАіС відбулось засідання Виховної ради
BEGIN:VEVENT
DTSTART:20230915T233000
DTEND:20230915T233000
SUMMARY:В КДАіС відбулось засідання Виховної ради
DESCRIPTION:Під час Виховної ради владика ректор обговорив з присутніми внутрішні питання виховного процесу в Київських духовних школах та низку інших важливих питань, що стосуються життя та діяльності Академії у І семестрі навчального року.
LOCATION:
END:VEVENT
END:VCALENDAR
