BEGIN:VCALENDAR
VERSION:2.0
PRODID:-//КДАіС
CALSCALE:GREGORIAN
METHOD:PUBLISH
X-WR-CALNAME:КДАіС
X-ORIGINAL-URL:https://kdais.kiev.ua/event/20092023-bdinnya/
X-WR-CALDESC:Всенічне бдіння напередодні престольного свята Академічного храму Різдва Пресвятої Богородиці (+ВІДЕО)
BEGIN:VEVENT
DTSTART:20230920T233000
DTEND:20230920T233000
SUMMARY:Всенічне бдіння напередодні престольного свята Академічного храму Різдва Пресвятої Богородиці (+ВІДЕО)
DESCRIPTION:Богослужіння очолив духівник та завідувач заочним відділенням архімандрит Маркел (Павук) у співслужінні викладачів, співробітників КДАіС та братії монастиря у священному сані.
LOCATION:
END:VEVENT
END:VCALENDAR
