BEGIN:VCALENDAR
VERSION:2.0
PRODID:-//КДАіС
CALSCALE:GREGORIAN
METHOD:PUBLISH
X-WR-CALNAME:КДАіС
X-ORIGINAL-URL:https://kdais.kiev.ua/event/liturhiya-08-10-2023/
X-WR-CALDESC:Божественна літургія в КДА в Неділю 18-ту після П’ятидесятниці
BEGIN:VEVENT
DTSTART:20231008T233000
DTEND:20231008T233000
SUMMARY:Божественна літургія в КДА в Неділю 18-ту після П’ятидесятниці
DESCRIPTION:Під час Літургії були піднесені прохання про мир на українській землі, про позбавлення від ворога, щоб Господь зглянувся на наш народ і зберіг тих, хто у відчаї і втратив домівки, щоб Господь благословив людей доброї волі, які допомагають нужденним. Також були піднесені заупокійні молитви за загиблими в результаті російського ракетного удару в селі Гроза на Харківщині, усіх полеглих українських воїнів, невинно вбитих під час війни та усіх спочилих православних християн.
LOCATION:
END:VEVENT
END:VCALENDAR
