BEGIN:VCALENDAR
VERSION:2.0
PRODID:-//КДАіС
CALSCALE:GREGORIAN
METHOD:PUBLISH
X-WR-CALNAME:КДАіС
X-ORIGINAL-URL:https://kdais.kiev.ua/event/liturhiya-04-11-2023/
X-WR-CALDESC:У Димитрівську батьківську суботу в Академії звершена заупокійна Божественна літургія
BEGIN:VEVENT
DTSTART:20231104T233000
DTEND:20231104T233000
SUMMARY:У Димитрівську батьківську суботу в Академії звершена заупокійна Божественна літургія
DESCRIPTION:В храмі на честь прп. Іоанна Дамаскина Свято-Покровського чоловічого монастиря у Голосієві була звершена Божественна літургія та Панахида, під час якої були піднесені молитви за упокій душ полеглих захисників України, загиблих мирних жителів внаслідок війни в Україні та усіх від віку спочилих християн.
LOCATION:
END:VEVENT
END:VCALENDAR
