BEGIN:VCALENDAR
VERSION:2.0
PRODID:-//КДАіС
CALSCALE:GREGORIAN
METHOD:PUBLISH
X-WR-CALNAME:КДАіС
X-ORIGINAL-URL:https://kdais.kiev.ua/event/slovo-05-11-2023/
X-WR-CALDESC:Слово архієпископа Білогородського Сильвестра у День народження Блаженнішого Митрополита Київського та всієї України Онуфрія
BEGIN:VEVENT
DTSTART:20231105T233000
DTEND:20231105T233000
SUMMARY:Слово архієпископа Білогородського Сильвестра у День народження Блаженнішого Митрополита Київського та всієї України Онуфрія
DESCRIPTION:Слово ректора Київської духовної академії і семінарії архієпископа Білогородського Сильвестра у День народження Предстоятеля Української Православної Церкви Блаженнішого Митрополита Київського та всієї України Онуфрія.
LOCATION:
END:VEVENT
END:VCALENDAR
