BEGIN:VCALENDAR
VERSION:2.0
PRODID:-//КДАіС
CALSCALE:GREGORIAN
METHOD:PUBLISH
X-WR-CALNAME:КДАіС
X-ORIGINAL-URL:https://kdais.kiev.ua/event/vitannya3-09-11-2023/
X-WR-CALDESC:Вітальне слово ректора Сумської духовної семінарії з нагоди річного акту Київської духовної академії
BEGIN:VEVENT
DTSTART:20231109T233000
DTEND:20231109T233000
SUMMARY:Вітальне слово ректора Сумської духовної семінарії з нагоди річного акту Київської духовної академії
DESCRIPTION:Від себе особисто та від імені викладачів, адміністрації та студентів Сумської духовної семінарії імені Блаженнішого Митрополита Володимира (Сабодана) сердечно вітаю Вас та всіх професорів, викладачів, наставників та студентів з днем пам'яті преподобного Нестора Літописця та Собору святих Київської духовної академії - Актовим днем Київської духовної академії і семінарії!
LOCATION:
END:VEVENT
END:VCALENDAR
