BEGIN:VCALENDAR
VERSION:2.0
PRODID:-//КДАіС
CALSCALE:GREGORIAN
METHOD:PUBLISH
X-WR-CALNAME:КДАіС
X-ORIGINAL-URL:https://kdais.kiev.ua/event/muzey-13-11-2023/
X-WR-CALDESC:До церковно-археологічного музею передані особисті документи спочилого ректора КДА протоієрея Миколая Забуги (+2014)
BEGIN:VEVENT
DTSTART:20231113T233000
DTEND:20231113T233000
SUMMARY:До церковно-археологічного музею передані особисті документи спочилого ректора КДА протоієрея Миколая Забуги (+2014)
DESCRIPTION:Серед переданих артефактів виявилися особисті конспекти латинської мови, рукописи та інші цінні документи, які належали спочилому ректорові. Цей надзвичайно важливий історичний дар розширює колекцію музею і надає унікальну можливість вивчення академічної та духовної спадщини протоієрея Миколая Забуги.
LOCATION:
END:VEVENT
END:VCALENDAR
