BEGIN:VCALENDAR
VERSION:2.0
PRODID:-//КДАіС
CALSCALE:GREGORIAN
METHOD:PUBLISH
X-WR-CALNAME:КДАіС
X-ORIGINAL-URL:https://kdais.kiev.ua/event/konferenc-17-11-2023/
X-WR-CALDESC:Представники Київської духовної академії взяли участь у міжнародній конференції у Варшаві
BEGIN:VEVENT
DTSTART:20231117T233000
DTEND:20231117T233000
SUMMARY:Представники Київської духовної академії взяли участь у міжнародній конференції у Варшаві
DESCRIPTION:На конференцію прибули представники студентської молоді з різних християнських конфесій Німеччини, Польщі та України.
LOCATION:
END:VEVENT
END:VCALENDAR
