BEGIN:VCALENDAR
VERSION:2.0
PRODID:-//КДАіС
CALSCALE:GREGORIAN
METHOD:PUBLISH
X-WR-CALNAME:КДАіС
X-ORIGINAL-URL:https://kdais.kiev.ua/event/vitannya-24-11-2023/
X-WR-CALDESC:Вітаємо професора архієпископа Хмельницького і Старокостянтинівського Віктора з Днем Ангела!
BEGIN:VEVENT
DTSTART:20231124T233000
DTEND:20231124T233000
SUMMARY:Вітаємо професора архієпископа Хмельницького і Старокостянтинівського Віктора з Днем Ангела!
DESCRIPTION:У цей святковий день прийміть сердечні поздоровлення від корпорації Київських духовних шкіл з нагоди Дня Вашого Ангела!
LOCATION:
END:VEVENT
END:VCALENDAR
