BEGIN:VCALENDAR
VERSION:2.0
PRODID:-//КДАіС
CALSCALE:GREGORIAN
METHOD:PUBLISH
X-WR-CALNAME:КДАіС
X-ORIGINAL-URL:https://kdais.kiev.ua/event/07-01-2024-liturhiya-rector/
X-WR-CALDESC:У день свята Різдва Христового Ректор КДА співслужив Блаженнішому Митрополиту Онуфрію (+ВІДЕО)
BEGIN:VEVENT
DTSTART:20240107T233000
DTEND:20240107T233000
SUMMARY:У день свята Різдва Христового Ректор КДА співслужив Блаженнішому Митрополиту Онуфрію (+ВІДЕО)
DESCRIPTION:Ректор Київської духовної академії і семінарії архієпископ Білогородський Сильвестр співслужив за Божественною літургією Предстоятелю Української Православної Церкви Блаженнішому Митрополиту Київському і всієї України Онуфрію в храмі на честь преподобного Агапіта Печерського Свято-Успенської Києво-Печерської Лаври.
LOCATION:
END:VEVENT
END:VCALENDAR
