BEGIN:VCALENDAR
VERSION:2.0
PRODID:-//КДАіС
CALSCALE:GREGORIAN
METHOD:PUBLISH
X-WR-CALNAME:КДАіС
X-ORIGINAL-URL:https://kdais.kiev.ua/event/09-01-2024-liturhiya-rector/
X-WR-CALDESC:Служіння ректора КДА у день пам&#8217;яті первомученика архідиякона Стефана та прп. Воніфатія Феофаніївського, Київського
BEGIN:VEVENT
DTSTART:20240109T233000
DTEND:20240109T233000
SUMMARY:Служіння ректора КДА у день пам&#8217;яті первомученика архідиякона Стефана та прп. Воніфатія Феофаніївського, Київського
DESCRIPTION:Божественну літургію очолив Блаженніший Митрополит Київський і всієї України Онуфрій.
LOCATION:
END:VEVENT
END:VCALENDAR
