BEGIN:VCALENDAR
VERSION:2.0
PRODID:-//КДАіС
CALSCALE:GREGORIAN
METHOD:PUBLISH
X-WR-CALNAME:КДАіС
X-ORIGINAL-URL:https://kdais.kiev.ua/event/liturhiya-rector-11-01-2024/
X-WR-CALDESC:Служіння ректора КДА у день пам&#8217;яті преподобного Лаврентія Чернігівського
BEGIN:VEVENT
DTSTART:20240111T233000
DTEND:20240111T233000
SUMMARY:Служіння ректора КДА у день пам&#8217;яті преподобного Лаврентія Чернігівського
DESCRIPTION:Божественну літургію очолив голова Учбового комітету при Священному Синоді УПЦ митрополит Ніжинський і Прилуцький Климент.
LOCATION:
END:VEVENT
END:VCALENDAR
