BEGIN:VCALENDAR
VERSION:2.0
PRODID:-//КДАіС
CALSCALE:GREGORIAN
METHOD:PUBLISH
X-WR-CALNAME:КДАіС
X-ORIGINAL-URL:https://kdais.kiev.ua/event/vitannya-13-01-2024/
X-WR-CALDESC:Вітаємо викладача та благочинного Академічного храму архімандрита Досифея (Михайлюка) з Днем Ангела!
BEGIN:VEVENT
DTSTART:20240113T233000
DTEND:20240113T233000
SUMMARY:Вітаємо викладача та благочинного Академічного храму архімандрита Досифея (Михайлюка) з Днем Ангела!
DESCRIPTION:У цей особливий та святковий день прийміть сердечні поздоровлення від корпорації Київських духовних шкіл з нагоди Дня Вашого Ангела!
LOCATION:
END:VEVENT
END:VCALENDAR
