BEGIN:VCALENDAR
VERSION:2.0
PRODID:-//КДАіС
CALSCALE:GREGORIAN
METHOD:PUBLISH
X-WR-CALNAME:КДАіС
X-ORIGINAL-URL:https://kdais.kiev.ua/event/liturhiya-rector-15-01-2024/
X-WR-CALDESC:Архієпископ Білогородський Сильвестр молитовно відзначив день свого тезоіменитства
BEGIN:VEVENT
DTSTART:20240115T233000
DTEND:20240115T233000
SUMMARY:Архієпископ Білогородський Сильвестр молитовно відзначив день свого тезоіменитства
DESCRIPTION:Урочисте богослужіння було звершено в храмі на честь великомученика Георгія Побідоносця в Солом’янському районі м. Києва.
LOCATION:
END:VEVENT
END:VCALENDAR
