BEGIN:VCALENDAR
VERSION:2.0
PRODID:-//КДАіС
CALSCALE:GREGORIAN
METHOD:PUBLISH
X-WR-CALNAME:КДАіС
X-ORIGINAL-URL:https://kdais.kiev.ua/event/vidspivuvannya-27-01-2024/
X-WR-CALDESC:Перший проректор КДА звершив чин відспівування Героя України
BEGIN:VEVENT
DTSTART:20240128T233000
DTEND:20240128T233000
SUMMARY:Перший проректор КДА звершив чин відспівування Героя України
DESCRIPTION:У храмі на честь святого архістратига Михаїла у селі Плахтянка Макарівського району було звершене відспівування Героя України, захисника Маріуполя, бійця «Азову» воїна Дмитра Володимировича Мартиненка. Захисник загинув під час евакуації поранених на заводі «Азовсталь» 31 березня 2022 року.


LOCATION:
END:VEVENT
END:VCALENDAR
