BEGIN:VCALENDAR
VERSION:2.0
PRODID:-//КДАіС
CALSCALE:GREGORIAN
METHOD:PUBLISH
X-WR-CALNAME:КДАіС
X-ORIGINAL-URL:https://kdais.kiev.ua/event/kafedra-12-02-2024-2/
X-WR-CALDESC:На кафедрі церковної історії заслухали звіти про стан випускних кваліфікаційних робіт студентів і вихованців КДАіС
BEGIN:VEVENT
DTSTART:20240212T233000
DTEND:20240212T233000
SUMMARY:На кафедрі церковної історії заслухали звіти про стан випускних кваліфікаційних робіт студентів і вихованців КДАіС
DESCRIPTION:Відповідно до Порядку денного, на засіданні були заслухані звіти студентів ІІ курсу магістратури Академії та 4-го класу бакалавріату Семінарії про стан написання ними випускних кваліфікаційних робіт. 
LOCATION:
END:VEVENT
END:VCALENDAR
