BEGIN:VCALENDAR
VERSION:2.0
PRODID:-//КДАіС
CALSCALE:GREGORIAN
METHOD:PUBLISH
X-WR-CALNAME:КДАіС
X-ORIGINAL-URL:https://kdais.kiev.ua/event/ekskursiya-25-02-2024/
X-WR-CALDESC:Вихованці 1-го класу КДС відвідали Національний заповідник &#8220;Софія Київська&#8221;
BEGIN:VEVENT
DTSTART:20240225T233000
DTEND:20240225T233000
SUMMARY:Вихованці 1-го класу КДС відвідали Національний заповідник &#8220;Софія Київська&#8221;
DESCRIPTION:Наприкінці екскурсії семінаристи подякували співробітникам заповідника за чудову пізнавальну екскурсію та зробили спільне фото.
LOCATION:
END:VEVENT
END:VCALENDAR
