BEGIN:VCALENDAR
VERSION:2.0
PRODID:-//КДАіС
CALSCALE:GREGORIAN
METHOD:PUBLISH
X-WR-CALNAME:КДАіС
X-ORIGINAL-URL:https://kdais.kiev.ua/event/biblioteka-28-02-24/
X-WR-CALDESC:В КДАіС відбулась презентація Галицько-Волинського Євангелія XII століття
BEGIN:VEVENT
DTSTART:
DTEND:
SUMMARY:В КДАіС відбулась презентація Галицько-Волинського Євангелія XII століття
DESCRIPTION:Детальніше ознайомитись з факсимільним виданням Євангелія ХІІ століття можна в бібліотеці Київських духовних шкіл.
LOCATION:
END:VEVENT
END:VCALENDAR
