BEGIN:VCALENDAR
VERSION:2.0
PRODID:-//КДАіС
CALSCALE:GREGORIAN
METHOD:PUBLISH
X-WR-CALNAME:КДАіС
X-ORIGINAL-URL:https://kdais.kiev.ua/event/kafedra-28-02-24/
X-WR-CALDESC:На кафедрі церковно-практичних дисциплін відбувся передзахист кандидатських дисертацій
BEGIN:VEVENT
DTSTART:20240228T233000
DTEND:20240228T233000
SUMMARY:На кафедрі церковно-практичних дисциплін відбувся передзахист кандидатських дисертацій
DESCRIPTION:Відповідно до порядку денного, відбувся успішний передзахист кандидатських дисертацій випускника КДА –протоієрея Дмитра Гарчука та студента III курсу аспірантури – Володимира Павлова.
LOCATION:
END:VEVENT
END:VCALENDAR
