BEGIN:VCALENDAR
VERSION:2.0
PRODID:-//КДАіС
CALSCALE:GREGORIAN
METHOD:PUBLISH
X-WR-CALNAME:КДАіС
X-ORIGINAL-URL:https://kdais.kiev.ua/event/02-03-2024-vitannya/
X-WR-CALDESC:Вітаємо професора протоієрея Ігоря Базаринського з 45-річчям з Дня народження!
BEGIN:VEVENT
DTSTART:20240302T233000
DTEND:20240302T233000
SUMMARY:Вітаємо професора протоієрея Ігоря Базаринського з 45-річчям з Дня народження!
DESCRIPTION:Прийміть щирі вітання від корпорації Київських духовних шкіл з нагоди 45-річчя з Дня народження! 
LOCATION:
END:VEVENT
END:VCALENDAR
