BEGIN:VCALENDAR
VERSION:2.0
PRODID:-//КДАіС
CALSCALE:GREGORIAN
METHOD:PUBLISH
X-WR-CALNAME:КДАіС
X-ORIGINAL-URL:https://kdais.kiev.ua/event/vitannya-14-03-2024/
X-WR-CALDESC:Вітаємо проректора з виховної роботи професора єпископа Згурівського Амвросія з Днем народження!
BEGIN:VEVENT
DTSTART:20240314T233000
DTEND:20240314T233000
SUMMARY:Вітаємо проректора з виховної роботи професора єпископа Згурівського Амвросія з Днем народження!
DESCRIPTION:Ваше Преосвященство, дорогий Владико! Київські духовні школи сердечно вітають Вас з Днем народження!
LOCATION:
END:VEVENT
END:VCALENDAR
