BEGIN:VCALENDAR
VERSION:2.0
PRODID:-//КДАіС
CALSCALE:GREGORIAN
METHOD:PUBLISH
X-WR-CALNAME:КДАіС
X-ORIGINAL-URL:https://kdais.kiev.ua/event/litiya-14-03-2024/
X-WR-CALDESC:В Академічному храмі звершена літія за новопреставленим Святішим Патріархом Болгарським Неофітом
BEGIN:VEVENT
DTSTART:20240314T233000
DTEND:20240314T233000
SUMMARY:В Академічному храмі звершена літія за новопреставленим Святішим Патріархом Болгарським Неофітом
DESCRIPTION:Заупокійне богослужіння звершив благочинний Академічного храму архімандрит Досифей (Михайлюк) у співслужінні викладачів Київських духовних шкіл у священному сані.
LOCATION:
END:VEVENT
END:VCALENDAR
