BEGIN:VCALENDAR
VERSION:2.0
PRODID:-//КДАіС
CALSCALE:GREGORIAN
METHOD:PUBLISH
X-WR-CALNAME:КДАіС
X-ORIGINAL-URL:https://kdais.kiev.ua/event/bdinya-13-04-2024/
X-WR-CALDESC:Всенічне бдіння в КДАіС напередодні Неділі четвертої Великого посту, дня пам&#8217;яті преподобного Іоанна Ліствичника (+ВІДЕО)
BEGIN:VEVENT
DTSTART:20240413T233000
DTEND:20240413T233000
SUMMARY:Всенічне бдіння в КДАіС напередодні Неділі четвертої Великого посту, дня пам&#8217;яті преподобного Іоанна Ліствичника (+ВІДЕО)
DESCRIPTION:Всенічне бдіння очолив ректор Київської духовної академії і семінарії архієпископ Білогородський Сильвестр.
LOCATION:
END:VEVENT
END:VCALENDAR
