BEGIN:VCALENDAR
VERSION:2.0
PRODID:-//КДАіС
CALSCALE:GREGORIAN
METHOD:PUBLISH
X-WR-CALNAME:КДАіС
X-ORIGINAL-URL:https://kdais.kiev.ua/event/30-04-2024-vitannya/
X-WR-CALDESC:Вітаємо економа КДА архімандрита Мелетія (Завадського) з Днем народження!
BEGIN:VEVENT
DTSTART:20240430T233000
DTEND:20240430T233000
SUMMARY:Вітаємо економа КДА архімандрита Мелетія (Завадського) з Днем народження!
DESCRIPTION:Корпорація Київських духовних шкіл висловлює Вам щирі вітання з нагоди Дня Вашого народження!
LOCATION:
END:VEVENT
END:VCALENDAR
