BEGIN:VCALENDAR
VERSION:2.0
PRODID:-//КДАіС
CALSCALE:GREGORIAN
METHOD:PUBLISH
X-WR-CALNAME:КДАіС
X-ORIGINAL-URL:https://kdais.kiev.ua/event/dopomoha-03-05-2024/
X-WR-CALDESC:Ректор КДА освятив паски для Київського пансіонату ветеранів праці
BEGIN:VEVENT
DTSTART:20240503T233000
DTEND:20240503T233000
SUMMARY:Ректор КДА освятив паски для Київського пансіонату ветеранів праці
DESCRIPTION:500 пасок будуть передані у пансіонат у день Світлого Христового Воскресіння.


LOCATION:
END:VEVENT
END:VCALENDAR
