BEGIN:VCALENDAR
VERSION:2.0
PRODID:-//КДАіС
CALSCALE:GREGORIAN
METHOD:PUBLISH
X-WR-CALNAME:КДАіС
X-ORIGINAL-URL:https://kdais.kiev.ua/event/slovo-ru-14-05-2024/
X-WR-CALDESC:Проповедь архиепископа Белогородского Сильвестра на Радоницу
BEGIN:VEVENT
DTSTART:20240514T233000
DTEND:20240514T233000
SUMMARY:Проповедь архиепископа Белогородского Сильвестра на Радоницу
DESCRIPTION:Проповедь ректора Киевской духовной академии и семинарии архиепископа Белогородского Сильвестра на Радоницу.
LOCATION:
END:VEVENT
END:VCALENDAR
