BEGIN:VCALENDAR
VERSION:2.0
PRODID:-//КДАіС
CALSCALE:GREGORIAN
METHOD:PUBLISH
X-WR-CALNAME:КДАіС
X-ORIGINAL-URL:https://kdais.kiev.ua/event/ekzamen-23-05-2024/
X-WR-CALDESC:Відбувся бакалаврський екзамен для вихованців 4-го класу КДС заочного відділення
BEGIN:VEVENT
DTSTART:20240523T233000
DTEND:20240523T233000
SUMMARY:Відбувся бакалаврський екзамен для вихованців 4-го класу КДС заочного відділення
DESCRIPTION:В Київських духовних школах пройшов бакалаврський екзамен, який успішно склали 80 вихованців 4-го класу заочного відділення Семінарії.
LOCATION:
END:VEVENT
END:VCALENDAR
