BEGIN:VCALENDAR
VERSION:2.0
PRODID:-//КДАіС
CALSCALE:GREGORIAN
METHOD:PUBLISH
X-WR-CALNAME:КДАіС
X-ORIGINAL-URL:https://kdais.kiev.ua/event/24-05-2024-liturhiya/
X-WR-CALDESC:День пам’яті святих рівноапостольних Кирила і Мефодія в КДАіС та випуск вихованців 4-го класу КДС заочного відділення
BEGIN:VEVENT
DTSTART:20240524T233000
DTEND:20240524T233000
SUMMARY:День пам’яті святих рівноапостольних Кирила і Мефодія в КДАіС та випуск вихованців 4-го класу КДС заочного відділення
DESCRIPTION:Після завершення богослужіння, відбувся випуск заочного відділення Київської духовної семінарії. До випускників звернувся владика ректор зі словами настанов та подякував їм за 4 роки навчання Київських духовних школах.
LOCATION:
END:VEVENT
END:VCALENDAR
