BEGIN:VCALENDAR
VERSION:2.0
PRODID:-//КДАіС
CALSCALE:GREGORIAN
METHOD:PUBLISH
X-WR-CALNAME:КДАіС
X-ORIGINAL-URL:https://kdais.kiev.ua/event/knyga-31-05-24/
X-WR-CALDESC:Київською духовною академією видано збірник Музичних творів архімандрита Романа (Подлубняка)
BEGIN:VEVENT
DTSTART:20240531T233000
DTEND:20240531T233000
SUMMARY:Київською духовною академією видано збірник Музичних творів архімандрита Романа (Подлубняка)
DESCRIPTION:Нотний збірник включає в себе творчий спадок відомого українського церковного композитора, регента хору Київської духовної Академії та Семінарії, архімандрита Романа (Поддубняка).
LOCATION:
END:VEVENT
END:VCALENDAR
