BEGIN:VCALENDAR
VERSION:2.0
PRODID:-//КДАіС
CALSCALE:GREGORIAN
METHOD:PUBLISH
X-WR-CALNAME:КДАіС
X-ORIGINAL-URL:https://kdais.kiev.ua/event/liturhiya-01-06-2024/
X-WR-CALDESC:Божественна літургія в КДА у річницю упокоєння архімандрита Романа (Подлубняка)
BEGIN:VEVENT
DTSTART:20240601T233000
DTEND:20240601T233000
SUMMARY:Божественна літургія в КДА у річницю упокоєння архімандрита Романа (Подлубняка)
DESCRIPTION:Після завершення Літургії була відслужена панахида за приснопам'ятним викладачем та багаторічним регентом КДАіС архімандритом Романом (Подлубняком).
LOCATION:
END:VEVENT
END:VCALENDAR
