BEGIN:VCALENDAR
VERSION:2.0
PRODID:-//КДАіС
CALSCALE:GREGORIAN
METHOD:PUBLISH
X-WR-CALNAME:КДАіС
X-ORIGINAL-URL:https://kdais.kiev.ua/event/kafedra-14-12-2023-2-2/
X-WR-CALDESC:На кафедрі церковно-практичних дисциплін заслухали звіти аспірантів КДАіС
BEGIN:VEVENT
DTSTART:20240607T233000
DTEND:20240607T233000
SUMMARY:На кафедрі церковно-практичних дисциплін заслухали звіти аспірантів КДАіС
DESCRIPTION:Наприкінці засідання були розглянуті прохання про закріплення тем наукових та кваліфікаційних робіт для студентів денного відділення та низка поточних питань кафедри.
LOCATION:
END:VEVENT
END:VCALENDAR
