BEGIN:VCALENDAR
VERSION:2.0
PRODID:-//КДАіС
CALSCALE:GREGORIAN
METHOD:PUBLISH
X-WR-CALNAME:КДАіС
X-ORIGINAL-URL:https://kdais.kiev.ua/event/vitannya-09-06-2024/
X-WR-CALDESC:Вітаємо доцента Ігоря Вікторовича Хроненка з Днем народження!
BEGIN:VEVENT
DTSTART:20240609T233000
DTEND:20240609T233000
SUMMARY:Вітаємо доцента Ігоря Вікторовича Хроненка з Днем народження!
DESCRIPTION:У ці світлі Пасхальні дні прийміть щирі вітання від корпорації Київських духовних шкіл з нагоди Вашого Дня народження!
LOCATION:
END:VEVENT
END:VCALENDAR
