BEGIN:VCALENDAR
VERSION:2.0
PRODID:-//КДАіС
CALSCALE:GREGORIAN
METHOD:PUBLISH
X-WR-CALNAME:КДАіС
X-ORIGINAL-URL:https://kdais.kiev.ua/event/bdinya-15-06-2024/
X-WR-CALDESC:Предстоятель УПЦ очолив Всенічне бдіння в КДАіС напередодні Неділі сьомої після Пасхи, свв. отців Першого Вселенського Собору
BEGIN:VEVENT
DTSTART:20240615T233000
DTEND:20240615T233000
SUMMARY:Предстоятель УПЦ очолив Всенічне бдіння в КДАіС напередодні Неділі сьомої після Пасхи, свв. отців Першого Вселенського Собору
DESCRIPTION:Завтра, 16 червня, в Київських духовних школах відбудеться урочистий випуск. Божественну літургію та вручення дипломів про закінчення КДАіС очолить Предстоятель Української Православної Церкви Блаженніший Митрополит Київський і всієї України Онуфрій. Початок Літургії завтра о 7:30.
LOCATION:
END:VEVENT
END:VCALENDAR
