BEGIN:VCALENDAR
VERSION:2.0
PRODID:-//КДАіС
CALSCALE:GREGORIAN
METHOD:PUBLISH
X-WR-CALNAME:КДАіС
X-ORIGINAL-URL:https://kdais.kiev.ua/event/iturhiya-rector-13-07-2024/
X-WR-CALDESC:Архієпископ Сильвестр взяв участь в освяченні храму на честь  Собору 12-ти апостолів
BEGIN:VEVENT
DTSTART:20240713T233000
DTEND:20240713T233000
SUMMARY:Архієпископ Сильвестр взяв участь в освяченні храму на честь  Собору 12-ти апостолів
DESCRIPTION:Чин великого освячення храму та соборну Божественну літургію очолив Предстоятель Української Православної Церкви Блаженніший Митрополит Київський і всієї України Онуфрій.
LOCATION:
END:VEVENT
END:VCALENDAR
