BEGIN:VCALENDAR
VERSION:2.0
PRODID:-//КДАіС
CALSCALE:GREGORIAN
METHOD:PUBLISH
X-WR-CALNAME:КДАіС
X-ORIGINAL-URL:https://kdais.kiev.ua/event/24-07-2024-rector/
X-WR-CALDESC:Служіння ректора з нагоди престольного свята і 30-річчя заснування Свято-Ольгинського собору м. Києва
BEGIN:VEVENT
DTSTART:20240724T233000
DTEND:20240724T233000
SUMMARY:Служіння ректора з нагоди престольного свята і 30-річчя заснування Свято-Ольгинського собору м. Києва
DESCRIPTION:У день свята Божественну літургію звершив Предстоятель Української Православної Церкви Блаженніший Митрополит Київський і всієї України Онуфрій.
LOCATION:
END:VEVENT
END:VCALENDAR
