BEGIN:VCALENDAR
VERSION:2.0
PRODID:-//КДАіС
CALSCALE:GREGORIAN
METHOD:PUBLISH
X-WR-CALNAME:КДАіС
X-ORIGINAL-URL:https://kdais.kiev.ua/event/propovid-02-08-2024-ua/
X-WR-CALDESC:Проповідь архієпископа Білогородського Сильвестра у день пам&#8217;яті пророка Божого Іллі
BEGIN:VEVENT
DTSTART:20240802T233000
DTEND:20240802T233000
SUMMARY:Проповідь архієпископа Білогородського Сильвестра у день пам&#8217;яті пророка Божого Іллі
DESCRIPTION:Деякі пророки залишили після себе твори, які тепер є частиною Писання, а деякі — нічого не писали, проте їхнє життя і служіння залишили дуже яскравий слід у Священній історії. До таких належить вшановуваний нині пророк Божий Ілля.
LOCATION:
END:VEVENT
END:VCALENDAR
