BEGIN:VCALENDAR
VERSION:2.0
PRODID:-//КДАіС
CALSCALE:GREGORIAN
METHOD:PUBLISH
X-WR-CALNAME:КДАіС
X-ORIGINAL-URL:https://kdais.kiev.ua/event/propovid-02-08-2024-ru/
X-WR-CALDESC:Проповедь архиепископа Белогородского Сильвестра в день памяти пророка Божия Илии
BEGIN:VEVENT
DTSTART:20240802T233000
DTEND:20240802T233000
SUMMARY:Проповедь архиепископа Белогородского Сильвестра в день памяти пророка Божия Илии
DESCRIPTION:Сегодня Церковь отмечает день памяти святого пророка Илии. Всем хорошо известно, какое значение имело пророческое служение в ветхозаветные времена. Святитель Иоанн Златоуст так и говорит, что слава древнего Ветхого Завета заключена в пророках. 
LOCATION:
END:VEVENT
END:VCALENDAR
