BEGIN:VCALENDAR
VERSION:2.0
PRODID:-//КДАіС
CALSCALE:GREGORIAN
METHOD:PUBLISH
X-WR-CALNAME:КДАіС
X-ORIGINAL-URL:https://kdais.kiev.ua/event/propovid-04-08-2024-ua/
X-WR-CALDESC:Проповідь архієпископа Білогородського Сильвестра у Неділю 6-ту після П&#8217;ятидесятниці
BEGIN:VEVENT
DTSTART:20240804T233000
DTEND:20240804T233000
SUMMARY:Проповідь архієпископа Білогородського Сильвестра у Неділю 6-ту після П&#8217;ятидесятниці
DESCRIPTION:Сьогоднішнє Євангельське читання розповідає про зцілення розслабленої, тобто паралізованої людини. Історія про зцілення розслабленого є в трьох євангелістів: Матфея, Марка і Луки. 
LOCATION:
END:VEVENT
END:VCALENDAR
